BEGIN:VCALENDAR
VERSION:2.0
PRODID:-//Durga Puja - Cologne - ECPv6.15.20//NONSGML v1.0//EN
CALSCALE:GREGORIAN
METHOD:PUBLISH
X-ORIGINAL-URL:https://durgapuja.de
X-WR-CALDESC:Events for Durga Puja - Cologne
REFRESH-INTERVAL;VALUE=DURATION:PT1H
X-Robots-Tag:noindex
X-PUBLISHED-TTL:PT1H
BEGIN:VTIMEZONE
TZID:Europe/Berlin
BEGIN:DAYLIGHT
TZOFFSETFROM:+0100
TZOFFSETTO:+0200
TZNAME:CEST
DTSTART:20220327T010000
END:DAYLIGHT
BEGIN:STANDARD
TZOFFSETFROM:+0200
TZOFFSETTO:+0100
TZNAME:CET
DTSTART:20221030T010000
END:STANDARD
BEGIN:DAYLIGHT
TZOFFSETFROM:+0100
TZOFFSETTO:+0200
TZNAME:CEST
DTSTART:20230326T010000
END:DAYLIGHT
BEGIN:STANDARD
TZOFFSETFROM:+0200
TZOFFSETTO:+0100
TZNAME:CET
DTSTART:20231029T010000
END:STANDARD
BEGIN:DAYLIGHT
TZOFFSETFROM:+0100
TZOFFSETTO:+0200
TZNAME:CEST
DTSTART:20240331T010000
END:DAYLIGHT
BEGIN:STANDARD
TZOFFSETFROM:+0200
TZOFFSETTO:+0100
TZNAME:CET
DTSTART:20241027T010000
END:STANDARD
END:VTIMEZONE
BEGIN:VEVENT
DTSTART;TZID=Europe/Berlin:20230128T150000
DTEND;TZID=Europe/Berlin:20230128T200000
DTSTAMP:20260424T212925
CREATED:20220906T202041Z
LAST-MODIFIED:20230122T011435Z
UID:181-1674918000-1674936000@durgapuja.de
SUMMARY:Saraswati Puja 2023
DESCRIPTION:After a forced two-year pandemic break\, Saraswati Puja – Cologne will be back on January 28\, 2023 at our venue\, the Quäkernachbarschaftsheim in Cologne. \nTo register go to: Google Docs Form . \nOur sister organisation Bongotshav looks forward in welcoming you at the festivities! \nYou can always motivate us to organise such events in a grand scale by helping the community financially. An easy way would be to donate via PayPal under http://paypal.me/bharatsamiti . Please use the PayPal option of family and friends to transfer to us! \nOur Bank Details\nIndischer Kulturverein (Bharat Samiti) e.V.\nIBAN: DE26 3704 0044 0763 4249 00\nBIC: COBADEFFXXX\nKonto Nr. 76 34 249\, BLZ: 370 400 44
URL:https://durgapuja.de/event/saraswati-puja-2023/
LOCATION:NRW
CATEGORIES:Saraswati Puja
END:VEVENT
END:VCALENDAR